BEGIN:VCALENDAR
VERSION:2.0
PRODID:-//Ecuadorian American Cultural Center - ECPv6.5.1.3//NONSGML v1.0//EN
CALSCALE:GREGORIAN
METHOD:PUBLISH
X-WR-CALNAME:Ecuadorian American Cultural Center
X-ORIGINAL-URL:https://www.ecuadorcenter.org
X-WR-CALDESC:Eventos para Ecuadorian American Cultural Center
REFRESH-INTERVAL;VALUE=DURATION:PT1H
X-Robots-Tag:noindex
X-PUBLISHED-TTL:PT1H
BEGIN:VTIMEZONE
TZID:UTC
BEGIN:STANDARD
TZOFFSETFROM:+0000
TZOFFSETTO:+0000
TZNAME:UTC
DTSTART:20250101T000000
END:STANDARD
END:VTIMEZONE
BEGIN:VEVENT
DTSTART;TZID=UTC:20250522T190000
DTEND;TZID=UTC:20250522T204500
DTSTAMP:20260420T061830
CREATED:20250517T000250Z
LAST-MODIFIED:20250517T020717Z
UID:7203-1747940400-1747946700@www.ecuadorcenter.org
SUMMARY:Programa de Estudios Latinos: Reuniones Comunitarias
DESCRIPTION:¡Tu voz importa!\nAcompáñanos el 22 de mayo o el 29 de mayo a las 7pm en Long Island City para una Reunión Comunitaria sobre el Programa de Estudios Latinos.\nQueremos escuchar tus ideas sobre cómo integrar este currículo en las escuelas públicas de NYC. \n¡Habrá refrigerios y bocadillos gratuitos!\nConstruyamos juntos el futuro — por la comunidad\, para la comunidad. \nFechas: 22 de mayo\, 2025 o 29 de mayo\, 2025\nHora: 7:00 PM
URL:https://www.ecuadorcenter.org/es/event/town-halls-latine-curriculum-community-engagement-2/
LOCATION:36-32 34th St 3rd floor\, Long Island City\, NY 11106\, 36-32 34th St 3rd floor\, Long Island City\, NY\, 11106\, United States
ATTACH;FMTTYPE=application/pdf:https://www.ecuadorcenter.org/wp-content/uploads/2025/05/Latine-Studies-15x21cm-07052025-SPA-LO-1.pdf
ORGANIZER;CN="Ecuadorian American Cultural Center":MAILTO:info@ecuadorcenter.org
END:VEVENT
END:VCALENDAR