BEGIN:VCALENDAR
VERSION:2.0
PRODID:-//Ecuadorian American Cultural Center - ECPv6.5.1.3//NONSGML v1.0//EN
CALSCALE:GREGORIAN
METHOD:PUBLISH
X-WR-CALNAME:Ecuadorian American Cultural Center
X-ORIGINAL-URL:https://www.ecuadorcenter.org
X-WR-CALDESC:Events for Ecuadorian American Cultural Center
REFRESH-INTERVAL;VALUE=DURATION:PT1H
X-Robots-Tag:noindex
X-PUBLISHED-TTL:PT1H
BEGIN:VTIMEZONE
TZID:America/New_York
BEGIN:DAYLIGHT
TZOFFSETFROM:-0500
TZOFFSETTO:-0400
TZNAME:EDT
DTSTART:20260308T070000
END:DAYLIGHT
BEGIN:STANDARD
TZOFFSETFROM:-0400
TZOFFSETTO:-0500
TZNAME:EST
DTSTART:20261101T060000
END:STANDARD
END:VTIMEZONE
BEGIN:VEVENT
DTSTART;TZID=America/New_York:20260207T130000
DTEND;TZID=America/New_York:20260207T170000
DTSTAMP:20260419T134327
CREATED:20260117T170458Z
LAST-MODIFIED:20260117T172044Z
UID:7252-1770469200-1770483600@www.ecuadorcenter.org
SUMMARY:Ñukanchik Sapi: Open House/Casa Abierta
DESCRIPTION:Introduce your children to Ecuadorian culture in NYC through dance\nJoin us at our Open House on Saturday\, February 7\, 2026:\n1 PM | Ages 5–7\n2:15 PM | Ages 8–11\n3:30 PM | Ages 12–14\n36-32 34th St. 3rd floor\, Long Island City\, NY 11106\nLimited space\, register today and be part of our community!\nRegistration link in bio. \nIntroduce a tus hijos a la cultura ecuatoriana en NYC a través del baile\nAcompáñanos en nuestra Casa Abierta el sábado 7 de febrero de 2026:\n1:00 PM | Edades 5–7\n2:15 PM | Edades 8–11\n3:30 PM | Edades 12–14\n36-32 34th St.\, 3er piso\, Long Island City\, NY 11106\nCupos limitados\, ¡Regístrate hoy y se parte de nuestra comunidad!\nEnlace de registro en la bio.
URL:https://www.ecuadorcenter.org/event/nukanchik-sapi-open-house-casa-abierta/
LOCATION:36-32 34th St 3rd floor\, Long Island City\, NY 11106\, 36-32 34th St 3rd floor\, Long Island City\, NY\, 11106\, United States
CATEGORIES:Children’s Dance Program
ATTACH;FMTTYPE=image/jpeg:https://www.ecuadorcenter.org/wp-content/uploads/2026/01/IMG_1338.jpg
ORGANIZER;CN="Ecuadorian American Cultural Center":MAILTO:info@ecuadorcenter.org
END:VEVENT
END:VCALENDAR